BEGIN:VCALENDAR
VERSION:2.0
PRODID:-//jEvents 2.0 for Joomla//EN
CALSCALE:GREGORIAN
METHOD:PUBLISH
BEGIN:VTIMEZONE
TZID:Europe/Brussels
BEGIN:STANDARD
DTSTART:20170112T190000
RDATE:20170326T030000
TZOFFSETFROM:+0200
TZOFFSETTO:+0100
TZNAME:Europe/Brussels CET
END:STANDARD
BEGIN:STANDARD
DTSTART:20171029T020000
RDATE:20180325T030000
TZOFFSETFROM:+0200
TZOFFSETTO:+0100
TZNAME:Europe/Brussels CET
END:STANDARD
BEGIN:STANDARD
DTSTART:20181028T020000
RDATE:20190331T030000
TZOFFSETFROM:+0200
TZOFFSETTO:+0100
TZNAME:Europe/Brussels CET
END:STANDARD
BEGIN:STANDARD
DTSTART:20191027T020000
RDATE:20200329T030000
TZOFFSETFROM:+0200
TZOFFSETTO:+0100
TZNAME:Europe/Brussels CET
END:STANDARD
BEGIN:STANDARD
DTSTART:20201025T020000
RDATE:20210328T030000
TZOFFSETFROM:+0200
TZOFFSETTO:+0100
TZNAME:Europe/Brussels CET
END:STANDARD
BEGIN:STANDARD
DTSTART:20211031T020000
RDATE:20220327T030000
TZOFFSETFROM:+0200
TZOFFSETTO:+0100
TZNAME:Europe/Brussels CET
END:STANDARD
BEGIN:STANDARD
DTSTART:20221030T020000
RDATE:20230326T030000
TZOFFSETFROM:+0200
TZOFFSETTO:+0100
TZNAME:Europe/Brussels CET
END:STANDARD
BEGIN:STANDARD
DTSTART:20231029T020000
RDATE:20240331T030000
TZOFFSETFROM:+0200
TZOFFSETTO:+0100
TZNAME:Europe/Brussels CET
END:STANDARD
BEGIN:STANDARD
DTSTART:20241027T020000
RDATE:20250330T030000
TZOFFSETFROM:+0200
TZOFFSETTO:+0100
TZNAME:Europe/Brussels CET
END:STANDARD
BEGIN:STANDARD
DTSTART:20251026T020000
RDATE:20260329T030000
TZOFFSETFROM:+0200
TZOFFSETTO:+0100
TZNAME:Europe/Brussels CET
END:STANDARD
BEGIN:STANDARD
DTSTART:20261025T020000
RDATE:20270328T030000
TZOFFSETFROM:+0200
TZOFFSETTO:+0100
TZNAME:Europe/Brussels CET
END:STANDARD
BEGIN:STANDARD
DTSTART:20271031T020000
RDATE:20280326T030000
TZOFFSETFROM:+0200
TZOFFSETTO:+0100
TZNAME:Europe/Brussels CET
END:STANDARD
BEGIN:STANDARD
DTSTART:20281029T020000
RDATE:20290325T030000
TZOFFSETFROM:+0200
TZOFFSETTO:+0100
TZNAME:Europe/Brussels CET
END:STANDARD
BEGIN:STANDARD
DTSTART:20291028T020000
RDATE:20300331T030000
TZOFFSETFROM:+0200
TZOFFSETTO:+0100
TZNAME:Europe/Brussels CET
END:STANDARD
BEGIN:STANDARD
DTSTART:20301027T020000
RDATE:20310330T030000
TZOFFSETFROM:+0200
TZOFFSETTO:+0100
TZNAME:Europe/Brussels CET
END:STANDARD
BEGIN:DAYLIGHT
DTSTART:20170326T030000
RDATE:20171029T020000
TZOFFSETFROM:+0100
TZOFFSETTO:+0200
TZNAME:Europe/Brussels CEST
END:DAYLIGHT
BEGIN:DAYLIGHT
DTSTART:20180325T030000
RDATE:20181028T020000
TZOFFSETFROM:+0100
TZOFFSETTO:+0200
TZNAME:Europe/Brussels CEST
END:DAYLIGHT
BEGIN:DAYLIGHT
DTSTART:20190331T030000
RDATE:20191027T020000
TZOFFSETFROM:+0100
TZOFFSETTO:+0200
TZNAME:Europe/Brussels CEST
END:DAYLIGHT
BEGIN:DAYLIGHT
DTSTART:20200329T030000
RDATE:20201025T020000
TZOFFSETFROM:+0100
TZOFFSETTO:+0200
TZNAME:Europe/Brussels CEST
END:DAYLIGHT
BEGIN:DAYLIGHT
DTSTART:20210328T030000
RDATE:20211031T020000
TZOFFSETFROM:+0100
TZOFFSETTO:+0200
TZNAME:Europe/Brussels CEST
END:DAYLIGHT
BEGIN:DAYLIGHT
DTSTART:20220327T030000
RDATE:20221030T020000
TZOFFSETFROM:+0100
TZOFFSETTO:+0200
TZNAME:Europe/Brussels CEST
END:DAYLIGHT
BEGIN:DAYLIGHT
DTSTART:20230326T030000
RDATE:20231029T020000
TZOFFSETFROM:+0100
TZOFFSETTO:+0200
TZNAME:Europe/Brussels CEST
END:DAYLIGHT
BEGIN:DAYLIGHT
DTSTART:20240331T030000
RDATE:20241027T020000
TZOFFSETFROM:+0100
TZOFFSETTO:+0200
TZNAME:Europe/Brussels CEST
END:DAYLIGHT
BEGIN:DAYLIGHT
DTSTART:20250330T030000
RDATE:20251026T020000
TZOFFSETFROM:+0100
TZOFFSETTO:+0200
TZNAME:Europe/Brussels CEST
END:DAYLIGHT
BEGIN:DAYLIGHT
DTSTART:20260329T030000
RDATE:20261025T020000
TZOFFSETFROM:+0100
TZOFFSETTO:+0200
TZNAME:Europe/Brussels CEST
END:DAYLIGHT
BEGIN:DAYLIGHT
DTSTART:20270328T030000
RDATE:20271031T020000
TZOFFSETFROM:+0100
TZOFFSETTO:+0200
TZNAME:Europe/Brussels CEST
END:DAYLIGHT
BEGIN:DAYLIGHT
DTSTART:20280326T030000
RDATE:20281029T020000
TZOFFSETFROM:+0100
TZOFFSETTO:+0200
TZNAME:Europe/Brussels CEST
END:DAYLIGHT
BEGIN:DAYLIGHT
DTSTART:20290325T030000
RDATE:20291028T020000
TZOFFSETFROM:+0100
TZOFFSETTO:+0200
TZNAME:Europe/Brussels CEST
END:DAYLIGHT
BEGIN:DAYLIGHT
DTSTART:20300331T030000
RDATE:20301027T020000
TZOFFSETFROM:+0100
TZOFFSETTO:+0200
TZNAME:Europe/Brussels CEST
END:DAYLIGHT
END:VTIMEZONE
BEGIN:VEVENT
UID:19fe75547429fdc5018c4233ee91d0cb
CATEGORIES:Maandelijkse bijeenkomsten
CREATED:20171219T084315
SUMMARY:Nieuwjaarsreceptie
LOCATION:Faculteit Vergelijkende Godsdienstwetenschappen\, Bist 164\, Wilrijk\,Belgi
 um
DESCRIPTION:<p><span style="font-family: arial, helvetica, sans-serif; font-size: 10pt;
 ">Jaarlijkse nieuwjaarsreceptie</span></p><p><span style="font-family: aria
 l, helvetica, sans-serif; font-size: 10pt;">Wij nodigen je van harte uit&nb
 sp;op onze nieuwjaarsreceptie, om samen met ons het nieuwe jaar in te luide
 n met een gratis hapje en drankje voor iedereen! Het maakt niet uit of je r
 egelmatig naar de bijeenkomsten komt, of het de eerste keer is... het is de
  ideale moment bij uitstek om in een gezellige sfeer eens kennis te maken m
 et anderen!</span><br /><br /><span style="font-family: arial, helvetica, s
 ans-serif; font-size: 10pt;">Inclusief een toespraak van:</span><br /><span
  style="font-family: arial, helvetica, sans-serif; font-size: 10pt;">- Davi
 d Dom, voorzitter New Order of Druids vzw</span><br /><br /><br /><span sty
 le="font-family: arial, helvetica, sans-serif; font-size: 10pt;"><strong>OP
 GELET</strong>: Voorafgaande reservatie is verplicht!&nbsp;Indien je wil ko
 men, laat ons dit dan weten&nbsp;<strong>uiterlijk op&nbsp;5 januari</stron
 g>, alsook met hoeveel personen (volwassenen en kinderen). Je hoeft uiteraa
 rd niet alleen te komen, je gezin is ook van harte welkom!</span><br /><br 
 /><br /><span style="font-family: arial, helvetica, sans-serif; font-size: 
 10pt;">Inschrijven kan per e-mail op:&nbsp;<joomla-hidden-mail  is-link="1"
  is-email="1" first="bWFzdGVycGhvZW5peA==" last="c2t5bmV0LmJl" text="bWFzdG
 VycGhvZW5peEBza3luZXQuYmU=" base="/mothergrove" >Dit e-mailadres wordt beve
 iligd tegen spambots. JavaScript dient ingeschakeld te zijn om het te bekij
 ken.</joomla-hidden-mail>&nbsp;of telefonisch op: 0495 / 40 36 35.</span><b
 r /><br /><span style="font-family: arial, helvetica, sans-serif; font-size
 : 10pt;">Toegang:&nbsp;GRATIS. Gratis drankje en hapje voor iedereen!</span
 ></p><p><span style="font-family: arial, helvetica, sans-serif; font-size: 
 10pt;"></span></p>
DTSTAMP:20260421T090524
DTSTART;TZID=Europe/Brussels:20180113T190000
DTEND;TZID=Europe/Brussels:20180113T223000
SEQUENCE:0
TRANSP:OPAQUE
END:VEVENT
END:VCALENDAR