BEGIN:VCALENDAR
VERSION:2.0
PRODID:-//jEvents 2.0 for Joomla//EN
CALSCALE:GREGORIAN
METHOD:PUBLISH
BEGIN:VTIMEZONE
TZID:Europe/Brussels
BEGIN:STANDARD
DTSTART:20180201T153000
RDATE:20180325T030000
TZOFFSETFROM:+0200
TZOFFSETTO:+0100
TZNAME:Europe/Brussels CET
END:STANDARD
BEGIN:STANDARD
DTSTART:20181028T020000
RDATE:20190331T030000
TZOFFSETFROM:+0200
TZOFFSETTO:+0100
TZNAME:Europe/Brussels CET
END:STANDARD
BEGIN:STANDARD
DTSTART:20191027T020000
RDATE:20200329T030000
TZOFFSETFROM:+0200
TZOFFSETTO:+0100
TZNAME:Europe/Brussels CET
END:STANDARD
BEGIN:STANDARD
DTSTART:20201025T020000
RDATE:20210328T030000
TZOFFSETFROM:+0200
TZOFFSETTO:+0100
TZNAME:Europe/Brussels CET
END:STANDARD
BEGIN:STANDARD
DTSTART:20211031T020000
RDATE:20220327T030000
TZOFFSETFROM:+0200
TZOFFSETTO:+0100
TZNAME:Europe/Brussels CET
END:STANDARD
BEGIN:STANDARD
DTSTART:20221030T020000
RDATE:20230326T030000
TZOFFSETFROM:+0200
TZOFFSETTO:+0100
TZNAME:Europe/Brussels CET
END:STANDARD
BEGIN:STANDARD
DTSTART:20231029T020000
RDATE:20240331T030000
TZOFFSETFROM:+0200
TZOFFSETTO:+0100
TZNAME:Europe/Brussels CET
END:STANDARD
BEGIN:STANDARD
DTSTART:20241027T020000
RDATE:20250330T030000
TZOFFSETFROM:+0200
TZOFFSETTO:+0100
TZNAME:Europe/Brussels CET
END:STANDARD
BEGIN:STANDARD
DTSTART:20251026T020000
RDATE:20260329T030000
TZOFFSETFROM:+0200
TZOFFSETTO:+0100
TZNAME:Europe/Brussels CET
END:STANDARD
BEGIN:STANDARD
DTSTART:20261025T020000
RDATE:20270328T030000
TZOFFSETFROM:+0200
TZOFFSETTO:+0100
TZNAME:Europe/Brussels CET
END:STANDARD
BEGIN:STANDARD
DTSTART:20271031T020000
RDATE:20280326T030000
TZOFFSETFROM:+0200
TZOFFSETTO:+0100
TZNAME:Europe/Brussels CET
END:STANDARD
BEGIN:STANDARD
DTSTART:20281029T020000
RDATE:20290325T030000
TZOFFSETFROM:+0200
TZOFFSETTO:+0100
TZNAME:Europe/Brussels CET
END:STANDARD
BEGIN:STANDARD
DTSTART:20291028T020000
RDATE:20300331T030000
TZOFFSETFROM:+0200
TZOFFSETTO:+0100
TZNAME:Europe/Brussels CET
END:STANDARD
BEGIN:STANDARD
DTSTART:20301027T020000
RDATE:20310330T030000
TZOFFSETFROM:+0200
TZOFFSETTO:+0100
TZNAME:Europe/Brussels CET
END:STANDARD
BEGIN:DAYLIGHT
DTSTART:20180325T030000
RDATE:20181028T020000
TZOFFSETFROM:+0100
TZOFFSETTO:+0200
TZNAME:Europe/Brussels CEST
END:DAYLIGHT
BEGIN:DAYLIGHT
DTSTART:20190331T030000
RDATE:20191027T020000
TZOFFSETFROM:+0100
TZOFFSETTO:+0200
TZNAME:Europe/Brussels CEST
END:DAYLIGHT
BEGIN:DAYLIGHT
DTSTART:20200329T030000
RDATE:20201025T020000
TZOFFSETFROM:+0100
TZOFFSETTO:+0200
TZNAME:Europe/Brussels CEST
END:DAYLIGHT
BEGIN:DAYLIGHT
DTSTART:20210328T030000
RDATE:20211031T020000
TZOFFSETFROM:+0100
TZOFFSETTO:+0200
TZNAME:Europe/Brussels CEST
END:DAYLIGHT
BEGIN:DAYLIGHT
DTSTART:20220327T030000
RDATE:20221030T020000
TZOFFSETFROM:+0100
TZOFFSETTO:+0200
TZNAME:Europe/Brussels CEST
END:DAYLIGHT
BEGIN:DAYLIGHT
DTSTART:20230326T030000
RDATE:20231029T020000
TZOFFSETFROM:+0100
TZOFFSETTO:+0200
TZNAME:Europe/Brussels CEST
END:DAYLIGHT
BEGIN:DAYLIGHT
DTSTART:20240331T030000
RDATE:20241027T020000
TZOFFSETFROM:+0100
TZOFFSETTO:+0200
TZNAME:Europe/Brussels CEST
END:DAYLIGHT
BEGIN:DAYLIGHT
DTSTART:20250330T030000
RDATE:20251026T020000
TZOFFSETFROM:+0100
TZOFFSETTO:+0200
TZNAME:Europe/Brussels CEST
END:DAYLIGHT
BEGIN:DAYLIGHT
DTSTART:20260329T030000
RDATE:20261025T020000
TZOFFSETFROM:+0100
TZOFFSETTO:+0200
TZNAME:Europe/Brussels CEST
END:DAYLIGHT
BEGIN:DAYLIGHT
DTSTART:20270328T030000
RDATE:20271031T020000
TZOFFSETFROM:+0100
TZOFFSETTO:+0200
TZNAME:Europe/Brussels CEST
END:DAYLIGHT
BEGIN:DAYLIGHT
DTSTART:20280326T030000
RDATE:20281029T020000
TZOFFSETFROM:+0100
TZOFFSETTO:+0200
TZNAME:Europe/Brussels CEST
END:DAYLIGHT
BEGIN:DAYLIGHT
DTSTART:20290325T030000
RDATE:20291028T020000
TZOFFSETFROM:+0100
TZOFFSETTO:+0200
TZNAME:Europe/Brussels CEST
END:DAYLIGHT
BEGIN:DAYLIGHT
DTSTART:20300331T030000
RDATE:20301027T020000
TZOFFSETFROM:+0100
TZOFFSETTO:+0200
TZNAME:Europe/Brussels CEST
END:DAYLIGHT
END:VTIMEZONE
BEGIN:VEVENT
UID:85dc2d1482135e78ff5ad881861bde35
CATEGORIES:Rituelen
CREATED:20181203T221607
SUMMARY:Imbolc Viering
LOCATION:Faculteit Vergelijkende Godsdienstwetenschappen\, Bist 164\, Wilrijk\, Belg
 ium
DESCRIPTION:<p><span style="font-family: arial, helvetica, sans-serif; font-size: 10pt;
 ">OPEN IMBOLC VIERING</span></p><p><span style="font-family: arial, helveti
 ca, sans-serif; font-size: 10pt;">We vieren het Keltische feest van Imbolc 
 met een open ritueel, gezamenlijke maaltijd en praatavond.<br /><br /><span
  style="text-decoration: underline;">Programma</span><br /><br />15u30 - Ve
 rzamelen aan de ingang van het FVG-gebouw<br /><br />16u00 - Aanvang Imbolc
  ritueel (grasveld naast het gebouw)<br /><br />17u00 - Gratis workshop: Im
 bolc eieren schilderen<br /><br /><span style="font-size: 10pt;">18u00 - Ge
 zamenlijke maaltijd (in het cafetaria-lokaal) met aansluitend praatavond</s
 pan><br /></span></p><p><span style="font-family: arial, helvetica, sans-se
 rif; font-size: 10pt;"><br /><br /><span style="text-decoration: underline;
 ">Over het ritueel</span><br /><br /><span style="font-family: arial, helve
 tica, sans-serif; font-size: 10pt;">Wat is Imbolc?</span><br /><span style=
 "font-family: arial, helvetica, sans-serif; font-size: 10pt;">Imbolc is het
  Keltisch festival dat de zaaiperiode aankondigt, alsook de geleidelijke te
 rugkeer van het licht na een lange donkere winter.&nbsp; Imbolc is dus een 
 licht festival waarbij men de Keltische godin Brigid eert.</span><br /><br 
 />Het ritueel vindt buiten plaats, op het grasveld naast het FVG-gebouw.&nb
 sp;<span style="font-family: arial, helvetica, sans-serif; font-size: 13px;
 ">Dit is een open ritueel, toegankelijk voor iedereen, en geheel gratis.<br
  /><br /><br /><span style="text-decoration: underline;">Over de workshop</
 span><br /><br />Na het ritueel kan je deelnemen aan de gratis workshop: Im
 bolc eieren schilderen.<br />Deze workshop is vrij toegankelijk.<br /><br /
 ><br /></span><span style="text-decoration: underline;">Over de gezamenlijk
 e maaltijd</span><br /><br />Vervolgens kan je deelnemen aan de gezamenlijk
 e maaltijd, die zal plaatsvinden in het cafetaria-lokaal op de 1ste verdiep
 ing van het FVG-gebouw. Wij bieden </span><span style="font-family: arial, 
 helvetica, sans-serif; font-size: 10pt;">een spaghetti-maaltijd aan, maar j
 e kan ook opteren om een eigen gerecht mee te brengen. Indien je niet deeln
 eemt aan het voorafgaande ritueel, maar wel aan de maaltijd, zorg er dan vo
 or dat je uiterlijk om 17u30 aanwezig bent.<br /><br /><span style="font-fa
 mily: arial, helvetica, sans-serif; font-size: 13px;">Dranken worden steeds
  door ons voorzien aan democratische prijzen.</span><br /></span></p><p><sp
 an style="font-family: arial, helvetica, sans-serif; font-size: 10pt;"><br 
 />Let ook op het volgende:<br /><br /><em><strong>Eigen gerecht</strong></e
 m><br /><br />- Je kan je eigen gerecht naar keuze meebrengen, om zelf op t
 e eten of om te delen met anderen.<br /><br />- Er is een <span style="text
 -decoration: underline;">beperkte</span> mogelijkheid om eten op te warmen 
 op een electrische kookplaat. Je dient dan wel zelf geschikte potten e.d.m.
  te voorzien.<br /><br />- Wegwerpbordjes en -bestek wordt door ons voorzie
 n, maar je bent welkom om eigen bord en bestek voor jezelf (of voor meerder
 e personen) mee te brengen. Het afwassen ervan is dan wel ten laste van jez
 elf.<br /><br />- Dranken worden steeds door ons voorzien aan democratische
  prijzen.<br /><br /><br /><br /><em style="font-size: 10pt;"><strong>Spagh
 etti-gerecht<br /><br /></strong></em><span style="font-size: 10pt;">-&nbsp
 ;Er wordt spaghetti voorzien met bolognaisesaus (met vlees) en met tomaten-
 groentensaus (zonder vlees), alsook kaas. Je bent natuurlijk niet verplicht
  om hiervoor te opteren.<br /><br /></span><span style="font-size: 10pt;">-
  De kostprijs per persoon is 5 €. Indien je enkel spaghetti (zonder saus) o
 f enkel saus (zonder spaghetti) neemt, is de kostprijs 2,5 € per persoon.<b
 r /><br /></span><span style="font-size: 10pt;">- </span><span style="text-
 decoration: underline;">Gelieve uiterlijk 2 dagen op voorhand te bevestigen
 </span><span style="font-size: 10pt;"> dat je kiest voor het spaghetti-gere
 cht, en op te geven of je voor de saus met vlees of zonder vlees kiest. Res
 erveren kan via e-mail op <joomla-hidden-mail  is-link="1" is-email="1" fir
 st="bmV3b3JkZXJvZmRydWlkcw==" last="Z21haWwuY29t" text="bmV3b3JkZXJvZmRydWl
 kc0BnbWFpbC5jb20=" base="/mothergrove" >Dit e-mailadres wordt beveiligd teg
 en spambots. JavaScript dient ingeschakeld te zijn om het te bekijken.</joo
 mla-hidden-mail></span><span style="font-size: 10pt;">. Zonder reservatie k
 unnen we niet garanderen dat er voldoende over zal zijn voor een maaltijd.&
 nbsp;<br /><br /></span>- Wegwerpbordjes en -bestek wordt door ons voorzien
 , maar je bent welkom om eigen bord en bestek voor jezelf (of voor meerdere
  personen) mee te brengen. Het afwassen ervan is dan wel ten laste van jeze
 lf.</span></p><p><span style="font-family: arial, helvetica, sans-serif; fo
 nt-size: 10pt;"><br style="font-family: arial, helvetica, sans-serif; font-
 size: 13px;" />Nadien kan iedereen nog rustig blijven napraten met een dran
 kje op onze aansluitende praatavond. Er zal ook een woordje uitleg worden g
 egeven over het feest van Imbolc.<br /><br /><br /><span style="text-decora
 tion: underline;">Toegangsprijs (voor de ganse viering)</span>: gratis<br /
 ><br /><br /><span style="font-size: 10pt;">Indien je enkel het ritueel, of
  enkel de bijeenkomst wenst bij te wonen, dan is dit geen probleem.&nbsp; D
 an begeef je je gewoon op het afgesproken uur naar de lokatie waar ons ritu
 eel of bijeenkomst doorgaat.</span></span></p><p><span style="font-family: 
 arial, helvetica, sans-serif; font-size: 10pt;"></span></p>
DTSTAMP:20260421T103927
DTSTART;TZID=Europe/Brussels:20190202T153000
DTEND;TZID=Europe/Brussels:20190202T223000
SEQUENCE:0
TRANSP:OPAQUE
END:VEVENT
END:VCALENDAR