BEGIN:VCALENDAR
VERSION:2.0
PRODID:-//jEvents 2.0 for Joomla//EN
CALSCALE:GREGORIAN
METHOD:PUBLISH
BEGIN:VTIMEZONE
TZID:Europe/Brussels
BEGIN:STANDARD
DTSTART:20180308T100000
RDATE:20180325T030000
TZOFFSETFROM:+0200
TZOFFSETTO:+0100
TZNAME:Europe/Brussels CET
END:STANDARD
BEGIN:STANDARD
DTSTART:20181028T020000
RDATE:20190331T030000
TZOFFSETFROM:+0200
TZOFFSETTO:+0100
TZNAME:Europe/Brussels CET
END:STANDARD
BEGIN:STANDARD
DTSTART:20191027T020000
RDATE:20200329T030000
TZOFFSETFROM:+0200
TZOFFSETTO:+0100
TZNAME:Europe/Brussels CET
END:STANDARD
BEGIN:STANDARD
DTSTART:20201025T020000
RDATE:20210328T030000
TZOFFSETFROM:+0200
TZOFFSETTO:+0100
TZNAME:Europe/Brussels CET
END:STANDARD
BEGIN:STANDARD
DTSTART:20211031T020000
RDATE:20220327T030000
TZOFFSETFROM:+0200
TZOFFSETTO:+0100
TZNAME:Europe/Brussels CET
END:STANDARD
BEGIN:STANDARD
DTSTART:20221030T020000
RDATE:20230326T030000
TZOFFSETFROM:+0200
TZOFFSETTO:+0100
TZNAME:Europe/Brussels CET
END:STANDARD
BEGIN:STANDARD
DTSTART:20231029T020000
RDATE:20240331T030000
TZOFFSETFROM:+0200
TZOFFSETTO:+0100
TZNAME:Europe/Brussels CET
END:STANDARD
BEGIN:STANDARD
DTSTART:20241027T020000
RDATE:20250330T030000
TZOFFSETFROM:+0200
TZOFFSETTO:+0100
TZNAME:Europe/Brussels CET
END:STANDARD
BEGIN:STANDARD
DTSTART:20251026T020000
RDATE:20260329T030000
TZOFFSETFROM:+0200
TZOFFSETTO:+0100
TZNAME:Europe/Brussels CET
END:STANDARD
BEGIN:STANDARD
DTSTART:20261025T020000
RDATE:20270328T030000
TZOFFSETFROM:+0200
TZOFFSETTO:+0100
TZNAME:Europe/Brussels CET
END:STANDARD
BEGIN:STANDARD
DTSTART:20271031T020000
RDATE:20280326T030000
TZOFFSETFROM:+0200
TZOFFSETTO:+0100
TZNAME:Europe/Brussels CET
END:STANDARD
BEGIN:STANDARD
DTSTART:20281029T020000
RDATE:20290325T030000
TZOFFSETFROM:+0200
TZOFFSETTO:+0100
TZNAME:Europe/Brussels CET
END:STANDARD
BEGIN:STANDARD
DTSTART:20291028T020000
RDATE:20300331T030000
TZOFFSETFROM:+0200
TZOFFSETTO:+0100
TZNAME:Europe/Brussels CET
END:STANDARD
BEGIN:STANDARD
DTSTART:20301027T020000
RDATE:20310330T030000
TZOFFSETFROM:+0200
TZOFFSETTO:+0100
TZNAME:Europe/Brussels CET
END:STANDARD
BEGIN:DAYLIGHT
DTSTART:20180325T030000
RDATE:20181028T020000
TZOFFSETFROM:+0100
TZOFFSETTO:+0200
TZNAME:Europe/Brussels CEST
END:DAYLIGHT
BEGIN:DAYLIGHT
DTSTART:20190331T030000
RDATE:20191027T020000
TZOFFSETFROM:+0100
TZOFFSETTO:+0200
TZNAME:Europe/Brussels CEST
END:DAYLIGHT
BEGIN:DAYLIGHT
DTSTART:20200329T030000
RDATE:20201025T020000
TZOFFSETFROM:+0100
TZOFFSETTO:+0200
TZNAME:Europe/Brussels CEST
END:DAYLIGHT
BEGIN:DAYLIGHT
DTSTART:20210328T030000
RDATE:20211031T020000
TZOFFSETFROM:+0100
TZOFFSETTO:+0200
TZNAME:Europe/Brussels CEST
END:DAYLIGHT
BEGIN:DAYLIGHT
DTSTART:20220327T030000
RDATE:20221030T020000
TZOFFSETFROM:+0100
TZOFFSETTO:+0200
TZNAME:Europe/Brussels CEST
END:DAYLIGHT
BEGIN:DAYLIGHT
DTSTART:20230326T030000
RDATE:20231029T020000
TZOFFSETFROM:+0100
TZOFFSETTO:+0200
TZNAME:Europe/Brussels CEST
END:DAYLIGHT
BEGIN:DAYLIGHT
DTSTART:20240331T030000
RDATE:20241027T020000
TZOFFSETFROM:+0100
TZOFFSETTO:+0200
TZNAME:Europe/Brussels CEST
END:DAYLIGHT
BEGIN:DAYLIGHT
DTSTART:20250330T030000
RDATE:20251026T020000
TZOFFSETFROM:+0100
TZOFFSETTO:+0200
TZNAME:Europe/Brussels CEST
END:DAYLIGHT
BEGIN:DAYLIGHT
DTSTART:20260329T030000
RDATE:20261025T020000
TZOFFSETFROM:+0100
TZOFFSETTO:+0200
TZNAME:Europe/Brussels CEST
END:DAYLIGHT
BEGIN:DAYLIGHT
DTSTART:20270328T030000
RDATE:20271031T020000
TZOFFSETFROM:+0100
TZOFFSETTO:+0200
TZNAME:Europe/Brussels CEST
END:DAYLIGHT
BEGIN:DAYLIGHT
DTSTART:20280326T030000
RDATE:20281029T020000
TZOFFSETFROM:+0100
TZOFFSETTO:+0200
TZNAME:Europe/Brussels CEST
END:DAYLIGHT
BEGIN:DAYLIGHT
DTSTART:20290325T030000
RDATE:20291028T020000
TZOFFSETFROM:+0100
TZOFFSETTO:+0200
TZNAME:Europe/Brussels CEST
END:DAYLIGHT
BEGIN:DAYLIGHT
DTSTART:20300331T030000
RDATE:20301027T020000
TZOFFSETFROM:+0100
TZOFFSETTO:+0200
TZNAME:Europe/Brussels CEST
END:DAYLIGHT
END:VTIMEZONE
BEGIN:VEVENT
UID:1a56d9e64ec9443148518caa48a665ee
CATEGORIES:Andere evenementen
CREATED:20181203T221742
SUMMARY:Boekenmarkt Ieperman
LOCATION:FVG\, Bist 164\, 2610 Wilrijk
DESCRIPTION:<div style="color: #222222; font-family: arial, sans-serif; font-size: 12.8
 px;"><span style="font-size: 10pt; font-family: arial, helvetica, sans-seri
 f;"><span style="font-size: 10pt; font-family: arial, helvetica, sans-serif
 ;">Graag nodigen we u uit op de&nbsp;<strong>boekenmarkt</strong>&nbsp;die 
 zal plaatsvinden op&nbsp;<strong>zaterdag 9 maart</strong>&nbsp;te Wilrijk 
 (Antwerpen). De toegang is gratis!</span></span><p><br />Op deze boekenmark
 t kan u terecht voor nieuwe en tweedehands boeken over onderwerpen zoals le
 vensbeschouwing, religie, spiritualiteit, filosofie, mythologie, geschieden
 is, etnografie, kunst, ... Kortom, de ideale gelegenheid om op zoek te gaan
  naar boeken die je niet zo vaak in de gewone boekhandel zal tegenkomen.&nb
 sp;<br /><br /><span>De boekenmarkt is geopend op 9 maart doorlopend van 10
 u tot 17u. Toegang gratis, cafetaria aanwezig.</span></p><p><br />Voor meer
  info:</p><div>Website:&nbsp;<a style="color: #1155cc;" href="http://boeken
 markt.ieperman.be/" target="_blank" rel="noopener" data-saferedirecturl="ht
 tps://www.google.com/url?hl=en-GB&amp;q=http://boekenmarkt.ieperman.be/&amp
 ;source=gmail&amp;ust=1474554232152000&amp;usg=AFQjCNEv-hHJGL5i7A0dcBdWruFc
 57-lPQ">http://boekenmarkt.<wbr />ieperman.be/</a></div><div>E-mail:&nbsp;<
 a style="color: #1155cc;" href="mailto:boekenmarkt.ieperman@gmail.com" targ
 et="_blank">boekenmarkt.ieperman@<wbr />gmail.com</a></div><span style="fon
 t-size: 10pt; font-family: arial, helvetica, sans-serif;">Tel.:&nbsp;<a sty
 le="color: #1155cc;" href="tel:03%20%2F%20830%2051%2058" target="_blank">03
  / 830 51 58</a>&nbsp;of&nbsp;<a style="color: #1155cc;" href="tel:0498%20%
 2F%2015%2079%2035" target="_blank">0498 / 15 79 35</a></span></div><div sty
 le="color: #222222; font-family: arial, sans-serif; font-size: 12.8px;"><sp
 an style="font-size: 10pt; font-family: arial, helvetica, sans-serif;"><br 
 />Hebt u zelf nieuwe of tweedehands boeken over bovenvernoemde onderwerpen 
 te koop? Contacteer dan zeker Boekenmarkt Ieperman op bovenstaande gegevens
  om u in te schrijven als standhouder. Op de website vindt u eveneens een i
 nschrijvingsformulier en alle nodige info.</span></div>
X-ALT-DESC;FMTTYPE=text/html:<div style="color: #222222; font-family: arial, sans-serif; font-size: 12.8
 px;"><span style="font-size: 10pt; font-family: arial, helvetica, sans-seri
 f;"><span style="font-size: 10pt; font-family: arial, helvetica, sans-serif
 ;">Graag nodigen we u uit op de&nbsp;<strong>boekenmarkt</strong>&nbsp;die 
 zal plaatsvinden op&nbsp;<strong>zaterdag 9 maart</strong>&nbsp;te Wilrijk 
 (Antwerpen). De toegang is gratis!</span></span><p><br />Op deze boekenmark
 t kan u terecht voor nieuwe en tweedehands boeken over onderwerpen zoals le
 vensbeschouwing, religie, spiritualiteit, filosofie, mythologie, geschieden
 is, etnografie, kunst, ... Kortom, de ideale gelegenheid om op zoek te gaan
  naar boeken die je niet zo vaak in de gewone boekhandel zal tegenkomen.&nb
 sp;<br /><br /><span>De boekenmarkt is geopend op 9 maart doorlopend van 10
 u tot 17u. Toegang gratis, cafetaria aanwezig.</span></p><p><br />Voor meer
  info:</p><div>Website:&nbsp;<a style="color: #1155cc;" href="http://boeken
 markt.ieperman.be/" target="_blank" rel="noopener" data-saferedirecturl="ht
 tps://www.google.com/url?hl=en-GB&amp;q=http://boekenmarkt.ieperman.be/&amp
 ;source=gmail&amp;ust=1474554232152000&amp;usg=AFQjCNEv-hHJGL5i7A0dcBdWruFc
 57-lPQ">http://boekenmarkt.<wbr />ieperman.be/</a></div><div>E-mail:&nbsp;<
 a style="color: #1155cc;" href="mailto:boekenmarkt.ieperman@gmail.com" targ
 et="_blank">boekenmarkt.ieperman@<wbr />gmail.com</a></div><span style="fon
 t-size: 10pt; font-family: arial, helvetica, sans-serif;">Tel.:&nbsp;<a sty
 le="color: #1155cc;" href="https://nervii.druidcircle.org/mothergrove/tel:0
 3%20%2F%20830%2051%2058" target="_blank">03 / 830 51 58</a>&nbsp;of&nbsp;<a
  style="color: #1155cc;" href="https://nervii.druidcircle.org/mothergrove/t
 el:0498%20%2F%2015%2079%2035" target="_blank">0498 / 15 79 35</a></span></d
 iv><div style="color: #222222; font-family: arial, sans-serif; font-size: 1
 2.8px;"><span style="font-size: 10pt; font-family: arial, helvetica, sans-s
 erif;"><br />Hebt u zelf nieuwe of tweedehands boeken over bovenvernoemde o
 nderwerpen te koop? Contacteer dan zeker Boekenmarkt Ieperman op bovenstaan
 de gegevens om u in te schrijven als standhouder. Op de website vindt u eve
 neens een inschrijvingsformulier en alle nodige info.</span></div>
CONTACT:Dit e-mailadres wordt beveiligd tegen spambots. JavaScript dient ingeschakeld te zijn om het te bekijken.
DTSTAMP:20260419T142521
DTSTART;TZID=Europe/Brussels:20190309T100000
DTEND;TZID=Europe/Brussels:20190309T170000
SEQUENCE:0
TRANSP:OPAQUE
END:VEVENT
END:VCALENDAR