BEGIN:VCALENDAR
VERSION:2.0
PRODID:-//jEvents 2.0 for Joomla//EN
CALSCALE:GREGORIAN
METHOD:PUBLISH
BEGIN:VTIMEZONE
TZID:Europe/Brussels
BEGIN:STANDARD
DTSTART:20180308T190000
RDATE:20180325T030000
TZOFFSETFROM:+0200
TZOFFSETTO:+0100
TZNAME:Europe/Brussels CET
END:STANDARD
BEGIN:STANDARD
DTSTART:20181028T020000
RDATE:20190331T030000
TZOFFSETFROM:+0200
TZOFFSETTO:+0100
TZNAME:Europe/Brussels CET
END:STANDARD
BEGIN:STANDARD
DTSTART:20191027T020000
RDATE:20200329T030000
TZOFFSETFROM:+0200
TZOFFSETTO:+0100
TZNAME:Europe/Brussels CET
END:STANDARD
BEGIN:STANDARD
DTSTART:20201025T020000
RDATE:20210328T030000
TZOFFSETFROM:+0200
TZOFFSETTO:+0100
TZNAME:Europe/Brussels CET
END:STANDARD
BEGIN:STANDARD
DTSTART:20211031T020000
RDATE:20220327T030000
TZOFFSETFROM:+0200
TZOFFSETTO:+0100
TZNAME:Europe/Brussels CET
END:STANDARD
BEGIN:STANDARD
DTSTART:20221030T020000
RDATE:20230326T030000
TZOFFSETFROM:+0200
TZOFFSETTO:+0100
TZNAME:Europe/Brussels CET
END:STANDARD
BEGIN:STANDARD
DTSTART:20231029T020000
RDATE:20240331T030000
TZOFFSETFROM:+0200
TZOFFSETTO:+0100
TZNAME:Europe/Brussels CET
END:STANDARD
BEGIN:STANDARD
DTSTART:20241027T020000
RDATE:20250330T030000
TZOFFSETFROM:+0200
TZOFFSETTO:+0100
TZNAME:Europe/Brussels CET
END:STANDARD
BEGIN:STANDARD
DTSTART:20251026T020000
RDATE:20260329T030000
TZOFFSETFROM:+0200
TZOFFSETTO:+0100
TZNAME:Europe/Brussels CET
END:STANDARD
BEGIN:STANDARD
DTSTART:20261025T020000
RDATE:20270328T030000
TZOFFSETFROM:+0200
TZOFFSETTO:+0100
TZNAME:Europe/Brussels CET
END:STANDARD
BEGIN:STANDARD
DTSTART:20271031T020000
RDATE:20280326T030000
TZOFFSETFROM:+0200
TZOFFSETTO:+0100
TZNAME:Europe/Brussels CET
END:STANDARD
BEGIN:STANDARD
DTSTART:20281029T020000
RDATE:20290325T030000
TZOFFSETFROM:+0200
TZOFFSETTO:+0100
TZNAME:Europe/Brussels CET
END:STANDARD
BEGIN:STANDARD
DTSTART:20291028T020000
RDATE:20300331T030000
TZOFFSETFROM:+0200
TZOFFSETTO:+0100
TZNAME:Europe/Brussels CET
END:STANDARD
BEGIN:STANDARD
DTSTART:20301027T020000
RDATE:20310330T030000
TZOFFSETFROM:+0200
TZOFFSETTO:+0100
TZNAME:Europe/Brussels CET
END:STANDARD
BEGIN:DAYLIGHT
DTSTART:20180325T030000
RDATE:20181028T020000
TZOFFSETFROM:+0100
TZOFFSETTO:+0200
TZNAME:Europe/Brussels CEST
END:DAYLIGHT
BEGIN:DAYLIGHT
DTSTART:20190331T030000
RDATE:20191027T020000
TZOFFSETFROM:+0100
TZOFFSETTO:+0200
TZNAME:Europe/Brussels CEST
END:DAYLIGHT
BEGIN:DAYLIGHT
DTSTART:20200329T030000
RDATE:20201025T020000
TZOFFSETFROM:+0100
TZOFFSETTO:+0200
TZNAME:Europe/Brussels CEST
END:DAYLIGHT
BEGIN:DAYLIGHT
DTSTART:20210328T030000
RDATE:20211031T020000
TZOFFSETFROM:+0100
TZOFFSETTO:+0200
TZNAME:Europe/Brussels CEST
END:DAYLIGHT
BEGIN:DAYLIGHT
DTSTART:20220327T030000
RDATE:20221030T020000
TZOFFSETFROM:+0100
TZOFFSETTO:+0200
TZNAME:Europe/Brussels CEST
END:DAYLIGHT
BEGIN:DAYLIGHT
DTSTART:20230326T030000
RDATE:20231029T020000
TZOFFSETFROM:+0100
TZOFFSETTO:+0200
TZNAME:Europe/Brussels CEST
END:DAYLIGHT
BEGIN:DAYLIGHT
DTSTART:20240331T030000
RDATE:20241027T020000
TZOFFSETFROM:+0100
TZOFFSETTO:+0200
TZNAME:Europe/Brussels CEST
END:DAYLIGHT
BEGIN:DAYLIGHT
DTSTART:20250330T030000
RDATE:20251026T020000
TZOFFSETFROM:+0100
TZOFFSETTO:+0200
TZNAME:Europe/Brussels CEST
END:DAYLIGHT
BEGIN:DAYLIGHT
DTSTART:20260329T030000
RDATE:20261025T020000
TZOFFSETFROM:+0100
TZOFFSETTO:+0200
TZNAME:Europe/Brussels CEST
END:DAYLIGHT
BEGIN:DAYLIGHT
DTSTART:20270328T030000
RDATE:20271031T020000
TZOFFSETFROM:+0100
TZOFFSETTO:+0200
TZNAME:Europe/Brussels CEST
END:DAYLIGHT
BEGIN:DAYLIGHT
DTSTART:20280326T030000
RDATE:20281029T020000
TZOFFSETFROM:+0100
TZOFFSETTO:+0200
TZNAME:Europe/Brussels CEST
END:DAYLIGHT
BEGIN:DAYLIGHT
DTSTART:20290325T030000
RDATE:20291028T020000
TZOFFSETFROM:+0100
TZOFFSETTO:+0200
TZNAME:Europe/Brussels CEST
END:DAYLIGHT
BEGIN:DAYLIGHT
DTSTART:20300331T030000
RDATE:20301027T020000
TZOFFSETFROM:+0100
TZOFFSETTO:+0200
TZNAME:Europe/Brussels CEST
END:DAYLIGHT
END:VTIMEZONE
BEGIN:VEVENT
UID:79617d3045fe22492f0292305dc117b3
CATEGORIES:Maandelijkse bijeenkomsten
CREATED:20181207T130015
SUMMARY:Keltische Spiritualiteit - de weg van de Ovaat: Het Ogham Alfabet
LOCATION:Faculteit Vergelijkende Godsdienstwetenschappen\, Bist 164\, Wilrijk\, Belg
 ium
DESCRIPTION:"Keltische spiritualiteit - de weg van de Ovaat" is een reeks bijeenkomsten
  die je begeleiden op je pad als Druïde. \n\nDeze bijeenkomsten zijn gebaee
 rd op het boek "Wandelen met Bomen" en zijn niet louter voordrachten maar i
 nteractieve bijeenkomsten met o.a. groepsgesprekken en meditaties. Dit type
  van bijeenkomsten die verspreid worden over een periode van 4 jaar (2018 -
  2021) waarin het boek volledig behandeld zal worden. In het eerste jaar zu
 llen er vier van deze bijeenkomsten plaats vinden, en in de daaropvolgende 
 drie jaren zullen er vijf bijeenkomsten plaats vinden (twee in het voorjaar
 , drie in het najaar). Zie hieronder voor meer informatie.\n\nOnderwerp van
  deze bijeenkomst: Het Ogham Alfabet\n\nOp deze bijeenkomst behandelen we h
 et Ogham Alfabet en doen we een bomenmeditatie.\n\n\nWat je moet weten over
  deze reeks van bijeenkomsten:\n\n- De bijeenkomsten volgen het boek "Wande
 len met Bomen" (al kan de volgorde van de behandelde hoofdstukken af en toe
  anders zijn).\n\n- Het boek "Wandelen met Bomen" is bij ons op de bijeenko
 msten verkrijgbaar, maar je bent niet verplicht het aan te kopen om aan dez
 e bijeenkomsten te kunnen deelnemen.\n\n- Er zijn twee bijeenkomsten in het
  voorjaar (maart en april) en twee &amp; drie in het najaar (september, okt
 ober en december).\n\n- Gedurende vier jaar (van 2018 t.e.m. 2021) zullen d
 eze bijeenkomsten zich als een lessenreeks elkaar opvolgen. \n\n- Het is oo
 k mogelijk om enkel sommige van deze bijeenkomsten op te volgen, maar we ra
 den aan om ze allemaal te volgen.\n\n\n\nToegangsprijs:\n\nToegangsprijs vo
 or bezoekers: 5 EUR per persoon\n\nToegangsprijs voor leden en studenten: 3
  EUR per persoon\n(op vertoon van lid- of studentenkaart, kinderen tot 12 j
 . gratis)\n\n\nDe bijeenkomst loopt van 19u tot uiterlijk 22u30.\n\n\n
X-ALT-DESC;FMTTYPE=text/html:<p><span style="font-size: 12pt;"><strong><span style="font-family: arial, 
 helvetica, sans-serif;">"Keltische spiritualiteit - de weg van de Ovaat" is
  een reeks bijeenkomsten die je begeleiden op je pad als Druïde. <br /><br 
 /><span style="font-size: 10pt;">Deze bijeenkomsten zijn gebaeerd op het bo
 ek "Wandelen met Bomen" en zijn niet louter voordrachten maar interactieve 
 bijeenkomsten met o.a. groepsgesprekken en meditaties. Dit type van bijeenk
 omsten die verspreid worden over een periode van 4 jaar (2018 - 2021) waari
 n het boek volledig behandeld zal worden. In het eerste jaar zullen er vier
  van deze bijeenkomsten plaats vinden, en in de daaropvolgende drie jaren z
 ullen er vijf bijeenkomsten plaats vinden (twee in het voorjaar, drie in he
 t najaar). Zie hieronder voor meer informatie.<br /><br /></span></span></s
 trong></span><span style="font-family: arial, helvetica, sans-serif; font-s
 ize: 10pt;"><span style="text-decoration: underline;">Onderwerp van deze bi
 jeenkomst</span>: <strong>Het Ogham Alfabet<br /><br /></strong><span style
 ="font-size: 10pt;"><em>Op deze bijeenkomst behandelen we het Ogham Alfabet
  en doen we een bomenmeditatie.</em><br /><br /><br /></span><strong style=
 "font-size: 10pt;">Wat je moet weten over deze reeks van bijeenkomsten:<br 
 /></strong><br /><span style="font-size: 10pt;">- De bijeenkomsten volgen h
 et boek "Wandelen met Bomen" (al kan de volgorde van de behandelde hoofdstu
 kken af en toe anders zijn).<br /><br /><span style="font-size: 10pt;">- He
 t boek "Wandelen met Bomen" is bij ons op de bijeenkomsten verkrijgbaar, ma
 ar je bent niet verplicht het aan te kopen om aan deze bijeenkomsten te kun
 nen deelnemen.<br /><br /></span><span style="font-size: 10pt;">- Er zijn t
 wee bijeenkomsten in het voorjaar (maart en april) en twee &amp; drie in he
 t najaar (september, oktober en december).<br /><br /></span><span style="f
 ont-size: 10pt;">- Gedurende vier jaar (van 2018 t.e.m. 2021) zullen deze b
 ijeenkomsten zich als een lessenreeks elkaar opvolgen.&nbsp;<br /><br /></s
 pan><span style="font-size: 10pt;">- Het is ook mogelijk om enkel sommige v
 an deze bijeenkomsten op te volgen, maar we raden aan om ze allemaal te vol
 gen.<br /><br /><br /></span></span></span></p><p><span style="font-family:
  arial, helvetica, sans-serif; font-size: 10pt;"><span style="font-size: 10
 pt;"><span style="text-decoration: underline;">Toegangsprijs</span><span st
 yle="font-size: 10pt;">:<br /><br /><span style="font-size: 10pt;">Toegangs
 prijs voor bezoekers: 5 EUR per persoon<br /><br /></span><span style="font
 -size: 10pt;">Toegangsprijs voor leden en studenten: 3 EUR per persoon<br /
 ></span><span style="font-size: 10pt;">(op vertoon van lid- of studentenkaa
 rt, kinderen tot 12 j. gratis)<br /><br /></span><span style="font-size: 10
 pt;"><br />De bijeenkomst loopt van 19u tot uiterlijk 22u30.<br /><br /></s
 pan></span></span></span></p>
DTSTAMP:20260419T142145
DTSTART;TZID=Europe/Brussels:20190309T190000
DTEND;TZID=Europe/Brussels:20190309T223000
SEQUENCE:0
TRANSP:OPAQUE
END:VEVENT
END:VCALENDAR